BEGIN:VCALENDAR
VERSION:2.0
PRODID:-//wp-events-plugin.com//7.2.3.1//EN
TZID:America/Toronto
X-WR-TIMEZONE:America/Toronto
BEGIN:VEVENT
UID:5685@cdsbeo.on.ca
DTSTART;TZID=America/Toronto:20260519T163000
DTEND;TZID=America/Toronto:20260519T180000
DTSTAMP:20250903T143952Z
URL:https://www.cdsbeo.on.ca/events/board-meeting-2025-09-16-2025-10-21-20
 25-11-18-2025-12-16-2026-01-20-2026-02-17-2026-03-17-2026-04-21-2026-05-19
 /
SUMMARY:Board Meeting
DESCRIPTION:
END:VEVENT
BEGIN:VTIMEZONE
TZID:America/Toronto
X-LIC-LOCATION:America/Toronto
BEGIN:DAYLIGHT
DTSTART:20260308T030000
TZOFFSETFROM:-0500
TZOFFSETTO:-0400
TZNAME:EDT
END:DAYLIGHT
END:VTIMEZONE
END:VCALENDAR