BEGIN:VCALENDAR
VERSION:2.0
PRODID:-//wp-events-plugin.com//7.2.3.1//EN
TZID:America/Toronto
X-WR-TIMEZONE:America/Toronto
BEGIN:VEVENT
UID:5720@cdsbeo.on.ca
DTSTART;TZID=America/Toronto:20260527T170000
DTEND;TZID=America/Toronto:20260527T180000
DTSTAMP:20250903T154350Z
URL:https://www.cdsbeo.on.ca/events/seac-meeting-2025-09-24-2025-10-29-202
 5-11-26-2025-12-31-2026-01-28-2026-02-25-2026-03-25-2026-04-29-2026-05-27/
SUMMARY:SEAC Meeting
DESCRIPTION:
END:VEVENT
BEGIN:VTIMEZONE
TZID:America/Toronto
X-LIC-LOCATION:America/Toronto
BEGIN:DAYLIGHT
DTSTART:20260308T030000
TZOFFSETFROM:-0500
TZOFFSETTO:-0400
TZNAME:EDT
END:DAYLIGHT
END:VTIMEZONE
END:VCALENDAR